BEGIN:VCALENDAR
VERSION:2.0
PRODID:-//American Nicaraguan School - ECPv6.15.20//NONSGML v1.0//EN
CALSCALE:GREGORIAN
METHOD:PUBLISH
X-ORIGINAL-URL:https://www.ans.edu.ni
X-WR-CALDESC:Events for American Nicaraguan School
REFRESH-INTERVAL;VALUE=DURATION:PT1H
X-Robots-Tag:noindex
X-PUBLISHED-TTL:PT1H
BEGIN:VTIMEZONE
TZID:America/Managua
BEGIN:STANDARD
TZOFFSETFROM:-0600
TZOFFSETTO:-0600
TZNAME:CST
DTSTART:20230101T000000
END:STANDARD
END:VTIMEZONE
BEGIN:VEVENT
DTSTART;TZID=America/Managua:20240927T130000
DTEND;TZID=America/Managua:20240927T164000
DTSTAMP:20260420T044532
CREATED:20240905T205859Z
LAST-MODIFIED:20240926T224648Z
UID:10001226-1727442000-1727455200@www.ans.edu.ni
SUMMARY:Track and Field - Special Practices
DESCRIPTION:
URL:https://www.ans.edu.ni/event/track-and-field-special-practices-2/
LOCATION:San Marcos\, Nicaragua
END:VEVENT
BEGIN:VEVENT
DTSTART;TZID=America/Managua:20240913T130000
DTEND;TZID=America/Managua:20240913T164000
DTSTAMP:20260420T044532
CREATED:20240905T205858Z
LAST-MODIFIED:20240905T205941Z
UID:10001224-1726232400-1726245600@www.ans.edu.ni
SUMMARY:Track and Field - Special Practices
DESCRIPTION:
URL:https://www.ans.edu.ni/event/track-and-field-special-practices/
LOCATION:San Marcos\, Nicaragua
END:VEVENT
END:VCALENDAR